BEGIN:VCALENDAR
VERSION:2.0
PRODID:-//Port Jobs - ECPv6.15.20//NONSGML v1.0//EN
CALSCALE:GREGORIAN
METHOD:PUBLISH
X-WR-CALNAME:Port Jobs
X-ORIGINAL-URL:https://portjobs.org
X-WR-CALDESC:Events for Port Jobs
REFRESH-INTERVAL;VALUE=DURATION:PT1H
X-Robots-Tag:noindex
X-PUBLISHED-TTL:PT1H
BEGIN:VTIMEZONE
TZID:America/Los_Angeles
BEGIN:DAYLIGHT
TZOFFSETFROM:-0800
TZOFFSETTO:-0700
TZNAME:PDT
DTSTART:20240310T100000
END:DAYLIGHT
BEGIN:STANDARD
TZOFFSETFROM:-0700
TZOFFSETTO:-0800
TZNAME:PST
DTSTART:20241103T090000
END:STANDARD
BEGIN:DAYLIGHT
TZOFFSETFROM:-0800
TZOFFSETTO:-0700
TZNAME:PDT
DTSTART:20250309T100000
END:DAYLIGHT
BEGIN:STANDARD
TZOFFSETFROM:-0700
TZOFFSETTO:-0800
TZNAME:PST
DTSTART:20251102T090000
END:STANDARD
BEGIN:DAYLIGHT
TZOFFSETFROM:-0800
TZOFFSETTO:-0700
TZNAME:PDT
DTSTART:20260308T100000
END:DAYLIGHT
BEGIN:STANDARD
TZOFFSETFROM:-0700
TZOFFSETTO:-0800
TZNAME:PST
DTSTART:20261101T090000
END:STANDARD
BEGIN:DAYLIGHT
TZOFFSETFROM:-0800
TZOFFSETTO:-0700
TZNAME:PDT
DTSTART:20270314T100000
END:DAYLIGHT
BEGIN:STANDARD
TZOFFSETFROM:-0700
TZOFFSETTO:-0800
TZNAME:PST
DTSTART:20271107T090000
END:STANDARD
END:VTIMEZONE
BEGIN:VEVENT
DTSTART;TZID=America/Los_Angeles:20251016T100000
DTEND;TZID=America/Los_Angeles:20251016T110000
DTSTAMP:20260425T133029
CREATED:20250929T173412Z
LAST-MODIFIED:20251020T172310Z
UID:10001108-1760608800-1760612400@portjobs.org
SUMMARY:Navigating Childcare Solutions Workshop
DESCRIPTION:Join this FREE childcare workshop for SEA Airport workers and their families.  Learn how to find quality childcare\, financial assistance options\, and local resources.\n\n  \nUpcoming Event Dates:\n\nThurs.\, October 30\, 2025\, from 10am – 11am\nThurs.\, November 6\, 2025\, from 2pm – 3pm\nThurs.\, November 13\, 2025\, from 10am – 11am\nThurs.\, November 20\, 2025\, from 2pm – 3pm\n\n\n  \nRegister Here\n  \nLearn more about childcare resources available to SEA Airport workers or print the flyer here.
URL:https://portjobs.org/event/navigating-childcare-solutions-workshop-2-2-2-2/2025-10-16/
LOCATION:Airport Jobs\, Airport Jobs Office - SEA Airport\, SeaTac\, WA\, 98158\, United States
CATEGORIES:Hiring Events & Job Fairs
ATTACH;FMTTYPE=image/png:https://portjobs.org/wp-content/uploads/2025/09/Workshop-Childcare-Navigation-scaled.png
ORGANIZER;CN="Airport Jobs":MAILTO:airportjobs@portjobs.org
END:VEVENT
BEGIN:VEVENT
DTSTART;TZID=America/Los_Angeles:20251022T110000
DTEND;TZID=America/Los_Angeles:20251022T150000
DTSTAMP:20260425T133029
CREATED:20250916T162721Z
LAST-MODIFIED:20250929T172335Z
UID:10001113-1761130800-1761145200@portjobs.org
SUMMARY:Transportation Fair - for SEA Airport Employees
DESCRIPTION:Are you a SEA Airport Employee?  Learn about all of the ways to get to/from work at the Employee Transportation Fair. \nLocation:  SEA Airport\, Airport Conference Center\, Room International B on the Mezzanine \nInterpreters will be available for several languages \n\nDrop in to learn about the transportation options for bus\, train\, carpool\, biking and walking to SEA Airport.\nLearn about Vanpool – ride to work with a group in a van for a monthly fee.\nGet a free ORCA bus pass or $10 gift card after signing up for SKC Trips.\nCheck out SEA Airport job openings and new childcare navigation services from Airport Jobs.\nLight snacks provided.
URL:https://portjobs.org/event/transportation-fair-for-sea-airport-employees/
CATEGORIES:Hiring Events & Job Fairs
ATTACH;FMTTYPE=image/png:https://portjobs.org/wp-content/uploads/2025/09/TransportationFlyer_2025-scaled.png
ORGANIZER;CN="Airport Jobs":MAILTO:airportjobs@portjobs.org
END:VEVENT
BEGIN:VEVENT
DTSTART;TZID=America/Los_Angeles:20251030T100000
DTEND;TZID=America/Los_Angeles:20251030T110000
DTSTAMP:20260425T133029
CREATED:20251020T172343Z
LAST-MODIFIED:20251020T172533Z
UID:10001110-1761818400-1761822000@portjobs.org
SUMMARY:Navigating Childcare Solutions Workshop
DESCRIPTION:Join this FREE childcare workshop for SEA Airport workers and their families.  Learn how to find quality childcare\, financial assistance options\, and local resources.\n\n  \nUpcoming Event Dates:\n\nThurs.\, October 30\, 2025\, from 10am – 11am\nThurs.\, November 6\, 2025\, from 2pm – 3pm\nThurs.\, November 13\, 2025\, from 10am – 11am\nThurs.\, November 20\, 2025\, from 2pm – 3pm\n\n\n  \nRegister Here\n  \nLearn more about childcare resources available to SEA Airport workers or print the flyer here.
URL:https://portjobs.org/event/navigating-childcare-solutions-workshop-2-2-2-2-2/2025-10-30/
LOCATION:Airport Jobs\, Airport Jobs Office - SEA Airport\, SeaTac\, WA\, 98158\, United States
CATEGORIES:Hiring Events & Job Fairs
ATTACH;FMTTYPE=image/jpeg:https://portjobs.org/wp-content/uploads/2025/10/Workshop-Childcare-Navigation-Oct-Nov.jpg
ORGANIZER;CN="Airport Jobs":MAILTO:airportjobs@portjobs.org
END:VEVENT
BEGIN:VEVENT
DTSTART;TZID=America/Los_Angeles:20251106T140000
DTEND;TZID=America/Los_Angeles:20251106T150000
DTSTAMP:20260425T133029
CREATED:20251020T172343Z
LAST-MODIFIED:20251020T172533Z
UID:10001115-1762437600-1762441200@portjobs.org
SUMMARY:Navigating Childcare Solutions Workshop
DESCRIPTION:Join this FREE childcare workshop for SEA Airport workers and their families.  Learn how to find quality childcare\, financial assistance options\, and local resources.\n\n  \nUpcoming Event Dates:\n\nThurs.\, October 30\, 2025\, from 10am – 11am\nThurs.\, November 6\, 2025\, from 2pm – 3pm\nThurs.\, November 13\, 2025\, from 10am – 11am\nThurs.\, November 20\, 2025\, from 2pm – 3pm\n\n\n  \nRegister Here\n  \nLearn more about childcare resources available to SEA Airport workers or print the flyer here.
URL:https://portjobs.org/event/navigating-childcare-solutions-workshop-2-2-2-2-2/2025-11-06/
LOCATION:Airport Jobs\, Airport Jobs Office - SEA Airport\, SeaTac\, WA\, 98158\, United States
CATEGORIES:Hiring Events & Job Fairs
ATTACH;FMTTYPE=image/jpeg:https://portjobs.org/wp-content/uploads/2025/10/Workshop-Childcare-Navigation-Oct-Nov.jpg
ORGANIZER;CN="Airport Jobs":MAILTO:airportjobs@portjobs.org
END:VEVENT
BEGIN:VEVENT
DTSTART;TZID=America/Los_Angeles:20251113T100000
DTEND;TZID=America/Los_Angeles:20251113T110000
DTSTAMP:20260425T133029
CREATED:20251020T172343Z
LAST-MODIFIED:20251020T172533Z
UID:10001116-1763028000-1763031600@portjobs.org
SUMMARY:Navigating Childcare Solutions Workshop
DESCRIPTION:Join this FREE childcare workshop for SEA Airport workers and their families.  Learn how to find quality childcare\, financial assistance options\, and local resources.\n\n  \nUpcoming Event Dates:\n\nThurs.\, October 30\, 2025\, from 10am – 11am\nThurs.\, November 6\, 2025\, from 2pm – 3pm\nThurs.\, November 13\, 2025\, from 10am – 11am\nThurs.\, November 20\, 2025\, from 2pm – 3pm\n\n\n  \nRegister Here\n  \nLearn more about childcare resources available to SEA Airport workers or print the flyer here.
URL:https://portjobs.org/event/navigating-childcare-solutions-workshop-2-2-2-2-2/2025-11-13/
LOCATION:Airport Jobs\, Airport Jobs Office - SEA Airport\, SeaTac\, WA\, 98158\, United States
CATEGORIES:Hiring Events & Job Fairs
ATTACH;FMTTYPE=image/jpeg:https://portjobs.org/wp-content/uploads/2025/10/Workshop-Childcare-Navigation-Oct-Nov.jpg
ORGANIZER;CN="Airport Jobs":MAILTO:airportjobs@portjobs.org
END:VEVENT
BEGIN:VEVENT
DTSTART;TZID=America/Los_Angeles:20251120T140000
DTEND;TZID=America/Los_Angeles:20251120T150000
DTSTAMP:20260425T133029
CREATED:20251020T172343Z
LAST-MODIFIED:20251020T172533Z
UID:10001117-1763647200-1763650800@portjobs.org
SUMMARY:Navigating Childcare Solutions Workshop
DESCRIPTION:Join this FREE childcare workshop for SEA Airport workers and their families.  Learn how to find quality childcare\, financial assistance options\, and local resources.\n\n  \nUpcoming Event Dates:\n\nThurs.\, October 30\, 2025\, from 10am – 11am\nThurs.\, November 6\, 2025\, from 2pm – 3pm\nThurs.\, November 13\, 2025\, from 10am – 11am\nThurs.\, November 20\, 2025\, from 2pm – 3pm\n\n\n  \nRegister Here\n  \nLearn more about childcare resources available to SEA Airport workers or print the flyer here.
URL:https://portjobs.org/event/navigating-childcare-solutions-workshop-2-2-2-2-2/2025-11-20/
LOCATION:Airport Jobs\, Airport Jobs Office - SEA Airport\, SeaTac\, WA\, 98158\, United States
CATEGORIES:Hiring Events & Job Fairs
ATTACH;FMTTYPE=image/jpeg:https://portjobs.org/wp-content/uploads/2025/10/Workshop-Childcare-Navigation-Oct-Nov.jpg
ORGANIZER;CN="Airport Jobs":MAILTO:airportjobs@portjobs.org
END:VEVENT
BEGIN:VEVENT
DTSTART;TZID=America/Los_Angeles:20251218T100000
DTEND;TZID=America/Los_Angeles:20251218T110000
DTSTAMP:20260425T133029
CREATED:20251124T210227Z
LAST-MODIFIED:20251215T221153Z
UID:10001145-1766052000-1766055600@portjobs.org
SUMMARY:Navigating Childcare Solutions Workshop
DESCRIPTION:Join this FREE childcare workshop for SEA Airport workers and their families.  Learn how to find quality childcare\, financial assistance options\, and local resources.\nEvent Dates:\n\nThurs.\, December 18\, 2025\, from 10am – 11am\nThurs.\, January 8\, 2026\, from 2pm – 3pm\nThurs.\, January 15\, 2026\, from 10am – 11am\nThurs.\, January 22\, 2026\, from 2pm – 3pm\nThurs.\, January 29\, 2026\, from 10am – 11am\n\nIf you are not able to attend a workshop\, please contact Renee for a one-on-one appointment. \nRegister here\nLearn more about childcare resources available to SEA Airport workers or print the flyer here.
URL:https://portjobs.org/event/navigating-childcare-solutions-workshop-2-2-2-2-2-2/2025-12-18/
CATEGORIES:Hiring Events & Job Fairs
ATTACH;FMTTYPE=image/png:https://portjobs.org/wp-content/uploads/2025/11/ChildcareNav_DecJan-scaled.png
END:VEVENT
BEGIN:VEVENT
DTSTART;TZID=America/Los_Angeles:20260108T140000
DTEND;TZID=America/Los_Angeles:20260108T150000
DTSTAMP:20260425T133029
CREATED:20251124T210227Z
LAST-MODIFIED:20251215T221153Z
UID:10001146-1767880800-1767884400@portjobs.org
SUMMARY:Navigating Childcare Solutions Workshop
DESCRIPTION:Join this FREE childcare workshop for SEA Airport workers and their families.  Learn how to find quality childcare\, financial assistance options\, and local resources.\nEvent Dates:\n\nThurs.\, December 18\, 2025\, from 10am – 11am\nThurs.\, January 8\, 2026\, from 2pm – 3pm\nThurs.\, January 15\, 2026\, from 10am – 11am\nThurs.\, January 22\, 2026\, from 2pm – 3pm\nThurs.\, January 29\, 2026\, from 10am – 11am\n\nIf you are not able to attend a workshop\, please contact Renee for a one-on-one appointment. \nRegister here\nLearn more about childcare resources available to SEA Airport workers or print the flyer here.
URL:https://portjobs.org/event/navigating-childcare-solutions-workshop-2-2-2-2-2-2/2026-01-08/
CATEGORIES:Hiring Events & Job Fairs
ATTACH;FMTTYPE=image/png:https://portjobs.org/wp-content/uploads/2025/11/ChildcareNav_DecJan-scaled.png
END:VEVENT
BEGIN:VEVENT
DTSTART;TZID=America/Los_Angeles:20260115T100000
DTEND;TZID=America/Los_Angeles:20260115T110000
DTSTAMP:20260425T133029
CREATED:20251124T210227Z
LAST-MODIFIED:20251215T221153Z
UID:10001147-1768471200-1768474800@portjobs.org
SUMMARY:Navigating Childcare Solutions Workshop
DESCRIPTION:Join this FREE childcare workshop for SEA Airport workers and their families.  Learn how to find quality childcare\, financial assistance options\, and local resources.\nEvent Dates:\n\nThurs.\, December 18\, 2025\, from 10am – 11am\nThurs.\, January 8\, 2026\, from 2pm – 3pm\nThurs.\, January 15\, 2026\, from 10am – 11am\nThurs.\, January 22\, 2026\, from 2pm – 3pm\nThurs.\, January 29\, 2026\, from 10am – 11am\n\nIf you are not able to attend a workshop\, please contact Renee for a one-on-one appointment. \nRegister here\nLearn more about childcare resources available to SEA Airport workers or print the flyer here.
URL:https://portjobs.org/event/navigating-childcare-solutions-workshop-2-2-2-2-2-2/2026-01-15/
CATEGORIES:Hiring Events & Job Fairs
ATTACH;FMTTYPE=image/png:https://portjobs.org/wp-content/uploads/2025/11/ChildcareNav_DecJan-scaled.png
END:VEVENT
BEGIN:VEVENT
DTSTART;TZID=America/Los_Angeles:20260119T083000
DTEND;TZID=America/Los_Angeles:20260119T113000
DTSTAMP:20260425T133029
CREATED:20251217T225146Z
LAST-MODIFIED:20260105T202658Z
UID:10001150-1768811400-1768822200@portjobs.org
SUMMARY:MLK Opportunity Fair
DESCRIPTION:This event is a powerful opportunity to explore your future! You’ll be able to connect with training and apprenticeship programs\, discover career pathways\, and meet employers ready to support your next step. It’s a great way to launch or grow your career. \nLocation:  Garfield High School\, 400 23rd Ave\, Seattle\, WA 98122 \n✨ Resume help\, career coaching\, ability to connect directly with recruiters! \nAttending Vendors Include (please note vendors are subject to change due to unforeseeable reasons). \n\nSound Transit\nPort of Seattle\nSeattle Public Utilities\nPuget Sound Electrical JATC\nPlymouth Housing\nPort Jobs\nRenton Technical College\nSphere Solar\nSnow & Company\, Inc.\nAlliance Building Services\nUW Medical Center\nHarborview Medical Center\nSmart Talent Staffing\nT&T Supermarket US\nYWCA\nHyatt\nCochran\, Inc. and more!\n\nSee flyer to register today. \n 
URL:https://portjobs.org/event/mlk-opportunity-fair/
CATEGORIES:Hiring Events & Job Fairs
ATTACH;FMTTYPE=image/jpeg:https://portjobs.org/wp-content/uploads/2025/12/MLK_Garfield_Jan19.jpg
ORGANIZER;CN="Airport Jobs":MAILTO:airportjobs@portjobs.org
END:VEVENT
BEGIN:VEVENT
DTSTART;TZID=America/Los_Angeles:20260122T140000
DTEND;TZID=America/Los_Angeles:20260122T150000
DTSTAMP:20260425T133029
CREATED:20251124T210227Z
LAST-MODIFIED:20251215T221153Z
UID:10001148-1769090400-1769094000@portjobs.org
SUMMARY:Navigating Childcare Solutions Workshop
DESCRIPTION:Join this FREE childcare workshop for SEA Airport workers and their families.  Learn how to find quality childcare\, financial assistance options\, and local resources.\nEvent Dates:\n\nThurs.\, December 18\, 2025\, from 10am – 11am\nThurs.\, January 8\, 2026\, from 2pm – 3pm\nThurs.\, January 15\, 2026\, from 10am – 11am\nThurs.\, January 22\, 2026\, from 2pm – 3pm\nThurs.\, January 29\, 2026\, from 10am – 11am\n\nIf you are not able to attend a workshop\, please contact Renee for a one-on-one appointment. \nRegister here\nLearn more about childcare resources available to SEA Airport workers or print the flyer here.
URL:https://portjobs.org/event/navigating-childcare-solutions-workshop-2-2-2-2-2-2/2026-01-22/
CATEGORIES:Hiring Events & Job Fairs
ATTACH;FMTTYPE=image/png:https://portjobs.org/wp-content/uploads/2025/11/ChildcareNav_DecJan-scaled.png
END:VEVENT
BEGIN:VEVENT
DTSTART;TZID=America/Los_Angeles:20260129T100000
DTEND;TZID=America/Los_Angeles:20260129T110000
DTSTAMP:20260425T133029
CREATED:20251124T210227Z
LAST-MODIFIED:20251215T221153Z
UID:10001149-1769680800-1769684400@portjobs.org
SUMMARY:Navigating Childcare Solutions Workshop
DESCRIPTION:Join this FREE childcare workshop for SEA Airport workers and their families.  Learn how to find quality childcare\, financial assistance options\, and local resources.\nEvent Dates:\n\nThurs.\, December 18\, 2025\, from 10am – 11am\nThurs.\, January 8\, 2026\, from 2pm – 3pm\nThurs.\, January 15\, 2026\, from 10am – 11am\nThurs.\, January 22\, 2026\, from 2pm – 3pm\nThurs.\, January 29\, 2026\, from 10am – 11am\n\nIf you are not able to attend a workshop\, please contact Renee for a one-on-one appointment. \nRegister here\nLearn more about childcare resources available to SEA Airport workers or print the flyer here.
URL:https://portjobs.org/event/navigating-childcare-solutions-workshop-2-2-2-2-2-2/2026-01-29/
CATEGORIES:Hiring Events & Job Fairs
ATTACH;FMTTYPE=image/png:https://portjobs.org/wp-content/uploads/2025/11/ChildcareNav_DecJan-scaled.png
END:VEVENT
BEGIN:VEVENT
DTSTART;TZID=America/Los_Angeles:20260326T110000
DTEND;TZID=America/Los_Angeles:20260326T120000
DTSTAMP:20260425T133029
CREATED:20260323T204534Z
LAST-MODIFIED:20260323T204607Z
UID:10001248-1774522800-1774526400@portjobs.org
SUMMARY:McGee Air Services Virtual Info Session
DESCRIPTION:McGee Air Services is holding a virtual information session! \nThursday\, March 26\, 2026\, from 11:00 am – 12:00 pm \nHiring for Seattle\, Portland and San Francisco Airports. \n\nRamp Agents\nFleet Service Agents\nCabin Cleaning Agents\nStation Agents\nOperations Supervisors\nOther airport support roles\n\nWhy join McGee? \n\nCompetitive hourly pay\nFlight travel privileges\nPaid training\n\nHow to attend? \n\nRegister by scanning the flyer QR code to RSVP and receive the event link\nWatch for a confirmation email with event\nJoin live on event day
URL:https://portjobs.org/event/mcgee-air-services-virtual-info-session/
CATEGORIES:Hiring Events & Job Fairs
ATTACH;FMTTYPE=image/jpeg:https://portjobs.org/wp-content/uploads/2026/03/McGee-Air-Services-Virtual-info-Session-Flyer.jpg
ORGANIZER;CN="Airport Jobs":MAILTO:airportjobs@portjobs.org
END:VEVENT
BEGIN:VEVENT
DTSTART;TZID=America/Los_Angeles:20260401T093000
DTEND;TZID=America/Los_Angeles:20260401T113000
DTSTAMP:20260425T133029
CREATED:20260323T204140Z
LAST-MODIFIED:20260323T204817Z
UID:10001247-1775035800-1775043000@portjobs.org
SUMMARY:VIP Hospitality - Must register before event - See details here
DESCRIPTION:VIP Hospitality is hiring!  Wednesday\, April 1\, 2026\, from 9:30 am – 11:30 am \nHiring Event Date: \n\nPre-registration required – No walk-ins accepted\nRegister using the QR code\nSpace is limited\n\nPositions: \n\nFull-time Divestiture Agent\nFull-time Exit/Divestiture Supervisor\nSee Flyer for details\n\nRegister: \n\nScan flyer QR code to register for the event.
URL:https://portjobs.org/event/vip-hospitality-scheduled-interviews/
CATEGORIES:Hiring Events & Job Fairs
ATTACH;FMTTYPE=image/jpeg:https://portjobs.org/wp-content/uploads/2026/03/VIP_April1.jpg
ORGANIZER;CN="Airport Jobs":MAILTO:airportjobs@portjobs.org
END:VEVENT
END:VCALENDAR