BEGIN:VCALENDAR
VERSION:2.0
PRODID:-//Port Jobs - ECPv6.15.20//NONSGML v1.0//EN
CALSCALE:GREGORIAN
METHOD:PUBLISH
X-WR-CALNAME:Port Jobs
X-ORIGINAL-URL:https://portjobs.org
X-WR-CALDESC:Events for Port Jobs
REFRESH-INTERVAL;VALUE=DURATION:PT1H
X-Robots-Tag:noindex
X-PUBLISHED-TTL:PT1H
BEGIN:VTIMEZONE
TZID:America/Los_Angeles
BEGIN:DAYLIGHT
TZOFFSETFROM:-0800
TZOFFSETTO:-0700
TZNAME:PDT
DTSTART:20230312T100000
END:DAYLIGHT
BEGIN:STANDARD
TZOFFSETFROM:-0700
TZOFFSETTO:-0800
TZNAME:PST
DTSTART:20231105T090000
END:STANDARD
BEGIN:DAYLIGHT
TZOFFSETFROM:-0800
TZOFFSETTO:-0700
TZNAME:PDT
DTSTART:20240310T100000
END:DAYLIGHT
BEGIN:STANDARD
TZOFFSETFROM:-0700
TZOFFSETTO:-0800
TZNAME:PST
DTSTART:20241103T090000
END:STANDARD
BEGIN:DAYLIGHT
TZOFFSETFROM:-0800
TZOFFSETTO:-0700
TZNAME:PDT
DTSTART:20250309T100000
END:DAYLIGHT
BEGIN:STANDARD
TZOFFSETFROM:-0700
TZOFFSETTO:-0800
TZNAME:PST
DTSTART:20251102T090000
END:STANDARD
END:VTIMEZONE
BEGIN:VEVENT
DTSTART;TZID=America/Los_Angeles:20240814T110000
DTEND;TZID=America/Los_Angeles:20240814T130000
DTSTAMP:20260425T190656
CREATED:20240812T162621Z
LAST-MODIFIED:20240812T162621Z
UID:10000427-1723633200-1723640400@portjobs.org
SUMMARY:Fireworks Open Interview at SEA
DESCRIPTION:Positions: \n\nPT Retail Sales Associates — $20.21/hr – $22.00/hr\n\n\n\nPT Stock Associates — $20.21/hr – $22.00/hr\n\nFT Key Holder –$21.50/hr – $22.95/hr\n \n\n\nFireworks Benefit Package Includes: \n\n20% employee discount\nPaid time off\nMedical\, dental and vision insurance – must work at least 30 hrs/week\nSix paid holidays and up to 52 hours vacation – must work at least 36 hrs/week\n\n 
URL:https://portjobs.org/event/fireworks-open-interview-at-sea/
LOCATION:Airport University Classroom\, Airport University Classroom\, Seattle\, WA\, 98158\, United States
CATEGORIES:Hiring Events & Job Fairs
ATTACH;FMTTYPE=image/jpeg:https://portjobs.org/wp-content/uploads/2024/08/Fireworks_Aug16_AU.jpg
ORGANIZER;CN="Airport Jobs":MAILTO:airportjobs@portjobs.org
END:VEVENT
BEGIN:VEVENT
DTSTART;TZID=America/Los_Angeles:20240814T140000
DTEND;TZID=America/Los_Angeles:20240814T180000
DTSTAMP:20260425T190656
CREATED:20240723T174746Z
LAST-MODIFIED:20240723T174823Z
UID:10000421-1723644000-1723658400@portjobs.org
SUMMARY:Integrated Deicing Services Open House & Hiring Event
DESCRIPTION:Integrated Deicing Services (IDS) Open House! \nCome see what we do here at IDS!  Sit in a truck\, play on our deicing simulator and enjoy some food and games! \n\nLooking for 18 years or older with a valid driver’s license\nNot afraid of heights\nAvailable night\, weekends and snow events\n$28/hour with flexible schedule\nPaid training\n\nLocation:  19815 International Blvd\, Suite #2\, SeaTac\, WA 98188
URL:https://portjobs.org/event/integrated-deicing-services-hiring-now/
CATEGORIES:Hiring Events & Job Fairs
ATTACH;FMTTYPE=image/png:https://portjobs.org/wp-content/uploads/2024/07/IntegratedDeIcing_Aug14.png
ORGANIZER;CN="Airport Jobs":MAILTO:airportjobs@portjobs.org
END:VEVENT
END:VCALENDAR