BEGIN:VCALENDAR
VERSION:2.0
PRODID:-//Port Jobs - ECPv6.15.20//NONSGML v1.0//EN
CALSCALE:GREGORIAN
METHOD:PUBLISH
X-ORIGINAL-URL:https://portjobs.org
X-WR-CALDESC:Events for Port Jobs
REFRESH-INTERVAL;VALUE=DURATION:PT1H
X-Robots-Tag:noindex
X-PUBLISHED-TTL:PT1H
BEGIN:VTIMEZONE
TZID:America/Los_Angeles
BEGIN:DAYLIGHT
TZOFFSETFROM:-0800
TZOFFSETTO:-0700
TZNAME:PDT
DTSTART:20230312T100000
END:DAYLIGHT
BEGIN:STANDARD
TZOFFSETFROM:-0700
TZOFFSETTO:-0800
TZNAME:PST
DTSTART:20231105T090000
END:STANDARD
BEGIN:DAYLIGHT
TZOFFSETFROM:-0800
TZOFFSETTO:-0700
TZNAME:PDT
DTSTART:20240310T100000
END:DAYLIGHT
BEGIN:STANDARD
TZOFFSETFROM:-0700
TZOFFSETTO:-0800
TZNAME:PST
DTSTART:20241103T090000
END:STANDARD
BEGIN:DAYLIGHT
TZOFFSETFROM:-0800
TZOFFSETTO:-0700
TZNAME:PDT
DTSTART:20250309T100000
END:DAYLIGHT
BEGIN:STANDARD
TZOFFSETFROM:-0700
TZOFFSETTO:-0800
TZNAME:PST
DTSTART:20251102T090000
END:STANDARD
END:VTIMEZONE
BEGIN:VEVENT
DTSTART;TZID=America/Los_Angeles:20240904T090000
DTEND;TZID=America/Los_Angeles:20240904T130000
DTSTAMP:20260425T191955
CREATED:20240903T165943Z
LAST-MODIFIED:20240903T165943Z
UID:10000457-1725440400-1725454800@portjobs.org
SUMMARY:WFS - Express Operations - Hiring FT Ramp & Warehouse Agents
DESCRIPTION:Dates: \n\nWednesday\, September 4\, 2024\, from 9:00am – 1:00pm\nFriday\, September 6\, 2024\, from 9:00am – 1:00pm\nMonday\, September 9\, 2024\, from 9:00am – 1:00pm\nFriday\, September 13\, 2024\, from 9:00am – 1:00pm\n\nLocation: \n\nRadisson Hotel SEA Airport\n\n18118 International Blvd\, Seattle\, WA 98188\n\n\n\n Positions: \n\nFull-time Ramp Agent – Express Operations – $22.28/hr\nFull-time Warehouse Agent – Express Operations – $22.28/hr
URL:https://portjobs.org/event/wfs-express-operations-hiring-ft-ramp-warehouse-agents/2024-09-04/
CATEGORIES:Hiring Events & Job Fairs
ATTACH;FMTTYPE=image/jpeg:https://portjobs.org/wp-content/uploads/2024/09/WFS_Express_Sept_Radisson.jpg
END:VEVENT
BEGIN:VEVENT
DTSTART;TZID=America/Los_Angeles:20240906T090000
DTEND;TZID=America/Los_Angeles:20240906T130000
DTSTAMP:20260425T191955
CREATED:20240903T165943Z
LAST-MODIFIED:20240903T165943Z
UID:10000458-1725613200-1725627600@portjobs.org
SUMMARY:WFS - Express Operations - Hiring FT Ramp & Warehouse Agents
DESCRIPTION:Dates: \n\nWednesday\, September 4\, 2024\, from 9:00am – 1:00pm\nFriday\, September 6\, 2024\, from 9:00am – 1:00pm\nMonday\, September 9\, 2024\, from 9:00am – 1:00pm\nFriday\, September 13\, 2024\, from 9:00am – 1:00pm\n\nLocation: \n\nRadisson Hotel SEA Airport\n\n18118 International Blvd\, Seattle\, WA 98188\n\n\n\n Positions: \n\nFull-time Ramp Agent – Express Operations – $22.28/hr\nFull-time Warehouse Agent – Express Operations – $22.28/hr
URL:https://portjobs.org/event/wfs-express-operations-hiring-ft-ramp-warehouse-agents/2024-09-06/
CATEGORIES:Hiring Events & Job Fairs
ATTACH;FMTTYPE=image/jpeg:https://portjobs.org/wp-content/uploads/2024/09/WFS_Express_Sept_Radisson.jpg
END:VEVENT
BEGIN:VEVENT
DTSTART;TZID=America/Los_Angeles:20240909T090000
DTEND;TZID=America/Los_Angeles:20240909T130000
DTSTAMP:20260425T191955
CREATED:20240903T165943Z
LAST-MODIFIED:20240903T165943Z
UID:10000459-1725872400-1725886800@portjobs.org
SUMMARY:WFS - Express Operations - Hiring FT Ramp & Warehouse Agents
DESCRIPTION:Dates: \n\nWednesday\, September 4\, 2024\, from 9:00am – 1:00pm\nFriday\, September 6\, 2024\, from 9:00am – 1:00pm\nMonday\, September 9\, 2024\, from 9:00am – 1:00pm\nFriday\, September 13\, 2024\, from 9:00am – 1:00pm\n\nLocation: \n\nRadisson Hotel SEA Airport\n\n18118 International Blvd\, Seattle\, WA 98188\n\n\n\n Positions: \n\nFull-time Ramp Agent – Express Operations – $22.28/hr\nFull-time Warehouse Agent – Express Operations – $22.28/hr
URL:https://portjobs.org/event/wfs-express-operations-hiring-ft-ramp-warehouse-agents/2024-09-09/
CATEGORIES:Hiring Events & Job Fairs
ATTACH;FMTTYPE=image/jpeg:https://portjobs.org/wp-content/uploads/2024/09/WFS_Express_Sept_Radisson.jpg
END:VEVENT
BEGIN:VEVENT
DTSTART;TZID=America/Los_Angeles:20240910T100000
DTEND;TZID=America/Los_Angeles:20240910T150000
DTSTAMP:20260425T191955
CREATED:20240820T230706Z
LAST-MODIFIED:20240820T230706Z
UID:10000455-1725962400-1725980400@portjobs.org
SUMMARY:Lutheran Community Services NW Job Fair
DESCRIPTION:Join Airport Jobs at the LCSNW Job Fair on Tuesday\, September 10\, 2024 from 10:00am – 3:00pm \nLocation:  Lutheran Community Services NW\, 4040 South 188th St #300\, SeaTac\, WA 98188
URL:https://portjobs.org/event/lutheran-community-services-nw-job-fair/
CATEGORIES:Hiring Events & Job Fairs
ATTACH;FMTTYPE=image/jpeg:https://portjobs.org/wp-content/uploads/2024/08/LCSNW-Sept10.jpg
ORGANIZER;CN="Airport Jobs":MAILTO:airportjobs@portjobs.org
END:VEVENT
BEGIN:VEVENT
DTSTART;TZID=America/Los_Angeles:20240912T100000
DTEND;TZID=America/Los_Angeles:20240912T133000
DTSTAMP:20260425T191955
CREATED:20240903T181717Z
LAST-MODIFIED:20240903T181717Z
UID:10000462-1726135200-1726147800@portjobs.org
SUMMARY:EmployAbility Career Fair Seattle
DESCRIPTION:Join the Dept of Services for the Blind and the Division of Vocational Rehabilitation for a day of networking and job opportunities at the Ground Hyatt in Seattle. \nLocation:  Grand Hyatt Seattle\, 721 Pine Street\, 7th Floor\, Seattle\, WA 98101 \nDedicated time for individuals with disabilities. \nSee flyer for Sound Transit or Community Transit route information.
URL:https://portjobs.org/event/employability-career-fair-seattle/
CATEGORIES:Hiring Events & Job Fairs
ATTACH;FMTTYPE=image/jpeg:https://portjobs.org/wp-content/uploads/2024/09/EmployAbility_Seattle_Sept12.jpg
ORGANIZER;CN="Airport Jobs":MAILTO:airportjobs@portjobs.org
END:VEVENT
BEGIN:VEVENT
DTSTART;TZID=America/Los_Angeles:20240913T090000
DTEND;TZID=America/Los_Angeles:20240913T130000
DTSTAMP:20260425T191955
CREATED:20240903T165943Z
LAST-MODIFIED:20240903T165943Z
UID:10000460-1726218000-1726232400@portjobs.org
SUMMARY:WFS - Express Operations - Hiring FT Ramp & Warehouse Agents
DESCRIPTION:Dates: \n\nWednesday\, September 4\, 2024\, from 9:00am – 1:00pm\nFriday\, September 6\, 2024\, from 9:00am – 1:00pm\nMonday\, September 9\, 2024\, from 9:00am – 1:00pm\nFriday\, September 13\, 2024\, from 9:00am – 1:00pm\n\nLocation: \n\nRadisson Hotel SEA Airport\n\n18118 International Blvd\, Seattle\, WA 98188\n\n\n\n Positions: \n\nFull-time Ramp Agent – Express Operations – $22.28/hr\nFull-time Warehouse Agent – Express Operations – $22.28/hr
URL:https://portjobs.org/event/wfs-express-operations-hiring-ft-ramp-warehouse-agents/2024-09-13/
CATEGORIES:Hiring Events & Job Fairs
ATTACH;FMTTYPE=image/jpeg:https://portjobs.org/wp-content/uploads/2024/09/WFS_Express_Sept_Radisson.jpg
END:VEVENT
BEGIN:VEVENT
DTSTART;TZID=America/Los_Angeles:20240921T110000
DTEND;TZID=America/Los_Angeles:20240921T150000
DTSTAMP:20260425T191955
CREATED:20240903T173956Z
LAST-MODIFIED:20240903T174315Z
UID:10000461-1726916400-1726930800@portjobs.org
SUMMARY:Crossroads Bellevue Resource Fair
DESCRIPTION:Resource and services fair for recent immigrants and long-time residents.  Connect with local organizations\, community partners and government agencies. \nLocation:  Crossroad Bellevue\, 15600 NE 8th St\, Bellevue\, WA \nResource Fair: \n\nSmall business start-up support\nLanguage and job skills training\nJob opportunities\nNetworking
URL:https://portjobs.org/event/crossroads-bellevue-resource-fair/
CATEGORIES:Hiring Events & Job Fairs
ATTACH;FMTTYPE=image/jpeg:https://portjobs.org/wp-content/uploads/2024/09/BellevueCrossroads_Sept21.jpg
ORGANIZER;CN="Airport Jobs":MAILTO:airportjobs@portjobs.org
END:VEVENT
BEGIN:VEVENT
DTSTART;TZID=America/Los_Angeles:20240921T110000
DTEND;TZID=America/Los_Angeles:20240921T180000
DTSTAMP:20260425T191955
CREATED:20240822T195753Z
LAST-MODIFIED:20240822T200153Z
UID:10000456-1726916400-1726941600@portjobs.org
SUMMARY:Refugee & Immigrant Festival
DESCRIPTION:Location:  Morrill Meadows Park\, 10600 SE 248th St\, Kent\, WA 98030 \nThis festival is a significant event that celebrates the rich cultural contributions of refugees and immigrants in our community.
URL:https://portjobs.org/event/refugee-immigrant-festival/
CATEGORIES:Hiring Events & Job Fairs
ATTACH;FMTTYPE=image/png:https://portjobs.org/wp-content/uploads/2024/08/Screenshot-2024-08-22-124938.png
END:VEVENT
BEGIN:VEVENT
DTSTART;TZID=America/Los_Angeles:20240923T130000
DTEND;TZID=America/Los_Angeles:20240923T160000
DTSTAMP:20260425T191955
CREATED:20240926T191056Z
LAST-MODIFIED:20241030T201517Z
UID:10000538-1727096400-1727107200@portjobs.org
SUMMARY:Swissport Hiring Event @ Their Offices
DESCRIPTION:Location:  18000 International Blvd\, SeaTac\, WA 98188\n\nThis building is across the street for SEA Airport\, where 13 Coins restaurant is located\nFloor LP – Earhart Conference Room – Look for signage\n\n\n\nPositions: \n\nPassenger Service Agents – $21.50/hr\nRamp Agents – $21.50/hr and driver’s license required\nGround Handling Ramp Agents – $21.50/hr and driver’s license required\n\nOpen interview\, job offers \, onboarding and drug screening on the event date for streamlined hiring process by Swissport.
URL:https://portjobs.org/event/swissport-hiring-event-their-offices/2024-09-23/
CATEGORIES:Hiring Events & Job Fairs
ATTACH;FMTTYPE=image/jpeg:https://portjobs.org/wp-content/uploads/2024/09/SwissportUSARamp_Sept-Dec_Monday.jpg
ORGANIZER;CN="Airport Jobs":MAILTO:airportjobs@portjobs.org
END:VEVENT
BEGIN:VEVENT
DTSTART;TZID=America/Los_Angeles:20240928T080000
DTEND;TZID=America/Los_Angeles:20240928T150000
DTSTAMP:20260425T191955
CREATED:20240919T185808Z
LAST-MODIFIED:20240919T190059Z
UID:10000468-1727510400-1727535600@portjobs.org
SUMMARY:TSA Hiring Event - TSA Offices
DESCRIPTION:Location:  18000 International Blvd South\, South Tower\, Lower Level\, Seattle\, WA 98188 \nFor additional information:  Seattle TSO Recruiting Event | Transportation Security Administration \nTSA Security Officers \n\nFull-time or part-time shift options\n$28.84/hr
URL:https://portjobs.org/event/tsa-hiring-event-tsa-offices/
CATEGORIES:Hiring Events & Job Fairs
ATTACH;FMTTYPE=image/jpeg:https://portjobs.org/wp-content/uploads/2024/09/TSA_Sept28_TheirOffice.jpg
ORGANIZER;CN="Airport Jobs":MAILTO:airportjobs@portjobs.org
END:VEVENT
BEGIN:VEVENT
DTSTART;TZID=America/Los_Angeles:20240928T110000
DTEND;TZID=America/Los_Angeles:20240928T180000
DTSTAMP:20260425T191955
CREATED:20240919T213316Z
LAST-MODIFIED:20240919T214417Z
UID:10000469-1727521200-1727546400@portjobs.org
SUMMARY:Fall Fishermen's Festival - Fun for whole family!
DESCRIPTION:Details:  https://fishermensfallfestival.godaddysites.com/ \nLocation:  Fishermen’s Terminal\, 1900 West Nickerson Street\, Seattle\, Washington 98119\, United States \nFun for the whole family: \n\nKids activities – painting\, wooden boat building\, Kraken bouncy house\, and more\nEvents – Survival suit races\, live music\, ship canal tours\nFood and Drinks for purchase – Salmon bbq\, beer garden\, wild Alaskan cod and more\nSeattle Fishermen’s Memorial\n\n 
URL:https://portjobs.org/event/fall-fishermens-festival-fun-for-whole-family/
CATEGORIES:Hiring Events & Job Fairs
ATTACH;FMTTYPE=image/png:https://portjobs.org/wp-content/uploads/2024/09/Screenshot-2024-09-19-143027.png
ORGANIZER;CN="Airport Jobs":MAILTO:airportjobs@portjobs.org
END:VEVENT
BEGIN:VEVENT
DTSTART;TZID=America/Los_Angeles:20240930T130000
DTEND;TZID=America/Los_Angeles:20240930T160000
DTSTAMP:20260425T191955
CREATED:20240926T191056Z
LAST-MODIFIED:20241030T201517Z
UID:10000471-1727701200-1727712000@portjobs.org
SUMMARY:Swissport Hiring Event @ Their Offices
DESCRIPTION:Location:  18000 International Blvd\, SeaTac\, WA 98188\n\nThis building is across the street for SEA Airport\, where 13 Coins restaurant is located\nFloor LP – Earhart Conference Room – Look for signage\n\n\n\nPositions: \n\nPassenger Service Agents – $21.50/hr\nRamp Agents – $21.50/hr and driver’s license required\nGround Handling Ramp Agents – $21.50/hr and driver’s license required\n\nOpen interview\, job offers \, onboarding and drug screening on the event date for streamlined hiring process by Swissport.
URL:https://portjobs.org/event/swissport-hiring-event-their-offices/2024-09-30/
CATEGORIES:Hiring Events & Job Fairs
ATTACH;FMTTYPE=image/jpeg:https://portjobs.org/wp-content/uploads/2024/09/SwissportUSARamp_Sept-Dec_Monday.jpg
ORGANIZER;CN="Airport Jobs":MAILTO:airportjobs@portjobs.org
END:VEVENT
END:VCALENDAR