BEGIN:VCALENDAR
VERSION:2.0
PRODID:-//Port Jobs - ECPv6.15.20//NONSGML v1.0//EN
CALSCALE:GREGORIAN
METHOD:PUBLISH
X-WR-CALNAME:Port Jobs
X-ORIGINAL-URL:https://portjobs.org
X-WR-CALDESC:Events for Port Jobs
REFRESH-INTERVAL;VALUE=DURATION:PT1H
X-Robots-Tag:noindex
X-PUBLISHED-TTL:PT1H
BEGIN:VTIMEZONE
TZID:America/Los_Angeles
BEGIN:DAYLIGHT
TZOFFSETFROM:-0800
TZOFFSETTO:-0700
TZNAME:PDT
DTSTART:20230312T100000
END:DAYLIGHT
BEGIN:STANDARD
TZOFFSETFROM:-0700
TZOFFSETTO:-0800
TZNAME:PST
DTSTART:20231105T090000
END:STANDARD
BEGIN:DAYLIGHT
TZOFFSETFROM:-0800
TZOFFSETTO:-0700
TZNAME:PDT
DTSTART:20240310T100000
END:DAYLIGHT
BEGIN:STANDARD
TZOFFSETFROM:-0700
TZOFFSETTO:-0800
TZNAME:PST
DTSTART:20241103T090000
END:STANDARD
BEGIN:DAYLIGHT
TZOFFSETFROM:-0800
TZOFFSETTO:-0700
TZNAME:PDT
DTSTART:20250309T100000
END:DAYLIGHT
BEGIN:STANDARD
TZOFFSETFROM:-0700
TZOFFSETTO:-0800
TZNAME:PST
DTSTART:20251102T090000
END:STANDARD
END:VTIMEZONE
BEGIN:VEVENT
DTSTART;TZID=America/Los_Angeles:20240810T110000
DTEND;TZID=America/Los_Angeles:20240810T140000
DTSTAMP:20260425T173634
CREATED:20240723T173852Z
LAST-MODIFIED:20240723T174405Z
UID:10000420-1723287600-1723298400@portjobs.org
SUMMARY:Fire Connect Career Day - North Seattle College
DESCRIPTION:Have you considered a career in the fire service?  The Seattle Fire Department (SFD) is hiring entry-level firefighter/EMTs in Fall 2024.  Now is the time to explore! \nAttend this career day to learn about the hiring process\, hear from SFD HR and meet with local firefights. \nNo RSVP required. \nLocation:  North Seattle College Courtyard & Cafeteria \nFood truck on-site
URL:https://portjobs.org/event/fire-connect-career-day-north-seattle-college/
CATEGORIES:Hiring Events & Job Fairs
ATTACH;FMTTYPE=image/jpeg:https://portjobs.org/wp-content/uploads/2024/07/Fire-Connect_Career-Day_2024-003.jpg
ORGANIZER;CN="Airport Jobs":MAILTO:airportjobs@portjobs.org
END:VEVENT
BEGIN:VEVENT
DTSTART;TZID=America/Los_Angeles:20240814T110000
DTEND;TZID=America/Los_Angeles:20240814T130000
DTSTAMP:20260425T173634
CREATED:20240812T162621Z
LAST-MODIFIED:20240812T162621Z
UID:10000427-1723633200-1723640400@portjobs.org
SUMMARY:Fireworks Open Interview at SEA
DESCRIPTION:Positions: \n\nPT Retail Sales Associates — $20.21/hr – $22.00/hr\n\n\n\nPT Stock Associates — $20.21/hr – $22.00/hr\n\nFT Key Holder –$21.50/hr – $22.95/hr\n \n\n\nFireworks Benefit Package Includes: \n\n20% employee discount\nPaid time off\nMedical\, dental and vision insurance – must work at least 30 hrs/week\nSix paid holidays and up to 52 hours vacation – must work at least 36 hrs/week\n\n 
URL:https://portjobs.org/event/fireworks-open-interview-at-sea/
LOCATION:Airport University Classroom\, Airport University Classroom\, Seattle\, WA\, 98158\, United States
CATEGORIES:Hiring Events & Job Fairs
ATTACH;FMTTYPE=image/jpeg:https://portjobs.org/wp-content/uploads/2024/08/Fireworks_Aug16_AU.jpg
ORGANIZER;CN="Airport Jobs":MAILTO:airportjobs@portjobs.org
END:VEVENT
BEGIN:VEVENT
DTSTART;TZID=America/Los_Angeles:20240814T140000
DTEND;TZID=America/Los_Angeles:20240814T180000
DTSTAMP:20260425T173634
CREATED:20240723T174746Z
LAST-MODIFIED:20240723T174823Z
UID:10000421-1723644000-1723658400@portjobs.org
SUMMARY:Integrated Deicing Services Open House & Hiring Event
DESCRIPTION:Integrated Deicing Services (IDS) Open House! \nCome see what we do here at IDS!  Sit in a truck\, play on our deicing simulator and enjoy some food and games! \n\nLooking for 18 years or older with a valid driver’s license\nNot afraid of heights\nAvailable night\, weekends and snow events\n$28/hour with flexible schedule\nPaid training\n\nLocation:  19815 International Blvd\, Suite #2\, SeaTac\, WA 98188
URL:https://portjobs.org/event/integrated-deicing-services-hiring-now/
CATEGORIES:Hiring Events & Job Fairs
ATTACH;FMTTYPE=image/png:https://portjobs.org/wp-content/uploads/2024/07/IntegratedDeIcing_Aug14.png
ORGANIZER;CN="Airport Jobs":MAILTO:airportjobs@portjobs.org
END:VEVENT
BEGIN:VEVENT
DTSTART;TZID=America/Los_Angeles:20240815T150000
DTEND;TZID=America/Los_Angeles:20240815T170000
DTSTAMP:20260425T173634
CREATED:20240801T223852Z
LAST-MODIFIED:20240801T223852Z
UID:10000422-1723734000-1723741200@portjobs.org
SUMMARY:High School Youth Drive Thru Resource Fair
DESCRIPTION:Reconnect to Opportunity is holding their annual High School Drive Thru Resource Fair on Thursday\, August 15\, 2024 from 3pm – 5pm. \nLocation:  YouthSource Tukwila parking lot\, 645 Andover Park West\, Tukwila\, WA 98188 \nHope to see you there
URL:https://portjobs.org/event/high-school-youth-drive-thru-resource-fair/
CATEGORIES:Hiring Events & Job Fairs
ATTACH;FMTTYPE=image/jpeg:https://portjobs.org/wp-content/uploads/2024/08/ReOpp-Back-to-School-Resource-Fair.jpg
ORGANIZER;CN="Airport Jobs":MAILTO:airportjobs@portjobs.org
END:VEVENT
BEGIN:VEVENT
DTSTART;TZID=America/Los_Angeles:20240816T090000
DTEND;TZID=America/Los_Angeles:20240816T160000
DTSTAMP:20260425T173634
CREATED:20240709T224956Z
LAST-MODIFIED:20240709T225022Z
UID:10000419-1723798800-1723824000@portjobs.org
SUMMARY:Level Up 2024 - Youth & Young Adult Job Fair
DESCRIPTION:The Y Social Impact Center is holding their annual youth and young adult life skills\, resources and employment fair. \nAges 15 – 25 \nLocation:  Matt Griffin YMCA\, 3595 South 188th St\, SeaTac\, WA 98188 \nHope to see you there!
URL:https://portjobs.org/event/level-up-2024-youth-job-fair-ages-15-25/
CATEGORIES:Hiring Events & Job Fairs
ATTACH;FMTTYPE=image/jpeg:https://portjobs.org/wp-content/uploads/2024/07/Level-Up-Flyer_Aug6.jpg
ORGANIZER;CN="Airport Jobs":MAILTO:airportjobs@portjobs.org
END:VEVENT
BEGIN:VEVENT
DTSTART;TZID=America/Los_Angeles:20240816T110000
DTEND;TZID=America/Los_Angeles:20240816T140000
DTSTAMP:20260425T173634
CREATED:20240813T181544Z
LAST-MODIFIED:20240813T182038Z
UID:10000449-1723806000-1723816800@portjobs.org
SUMMARY:Swissport Fueling Hiring Event
DESCRIPTION:Location:  \n\nSwissport Offices – 18000 International Blvd\, SeaTac\, WA 98188\nFloor LP; Earhart Conference Room.  Look for signage.\nThis is a building across from the airport\, where 13 Coins restaurant is located.\n\nFueling Agents: \n\n$22/hr\nFull-time position\nValid driver’s license required\nGeneral math aptitude required
URL:https://portjobs.org/event/swissport-fueling-hiring-event/2024-08-16/
CATEGORIES:Hiring Events & Job Fairs
ATTACH;FMTTYPE=image/jpeg:https://portjobs.org/wp-content/uploads/2024/08/SwissportUSAFueler_Aug16-20.jpg
ORGANIZER;CN="Airport Jobs":MAILTO:airportjobs@portjobs.org
END:VEVENT
BEGIN:VEVENT
DTSTART;TZID=America/Los_Angeles:20240818T110000
DTEND;TZID=America/Los_Angeles:20240818T150000
DTSTAMP:20260425T173634
CREATED:20240805T165303Z
LAST-MODIFIED:20240805T165303Z
UID:10000423-1723978800-1723993200@portjobs.org
SUMMARY:Garfield High School Summer Resource Fair
DESCRIPTION:Location:  Garfield High School\, 400 23rd Ave\, Seattle\, WA 98122 \nCome to Garfield HS for their annual Summer Resource Fair \n\nFood\nEmployment resources\nCommunity resources\nand more!
URL:https://portjobs.org/event/garfield-high-school-summer-resource-fair/
CATEGORIES:Hiring Events & Job Fairs
ATTACH;FMTTYPE=image/jpeg:https://portjobs.org/wp-content/uploads/2024/08/Garfield_Aug18.jpg
ORGANIZER;CN="Airport Jobs":MAILTO:airportjobs@portjobs.org
END:VEVENT
BEGIN:VEVENT
DTSTART;TZID=America/Los_Angeles:20240819T130000
DTEND;TZID=America/Los_Angeles:20240819T160000
DTSTAMP:20260425T173634
CREATED:20240813T181822Z
LAST-MODIFIED:20240813T181952Z
UID:10000451-1724072400-1724083200@portjobs.org
SUMMARY:Swissport USA - Ground Handling Hiring Event
DESCRIPTION:Location:  \n\nSwissport Offices – 18000 International Blvd\, SeaTac\, WA 98188\nFloor LP; Earhart Conference Room.  Look for signage.\nThis is a building across from the airport\, where 13 Coins restaurant is located.\n\nGround Handling Ramp Agents: \n\n$21/hr\nFull-time and part-time positions\nValid driver’s license required
URL:https://portjobs.org/event/swissport-usa-ground-handling-ramp-agent-hiring-event/2024-08-19/
CATEGORIES:Hiring Events & Job Fairs
ATTACH;FMTTYPE=image/jpeg:https://portjobs.org/wp-content/uploads/2024/08/SwissportUSARamp_Aug19-26.jpg
ORGANIZER;CN="Airport Jobs":MAILTO:airportjobs@portjobs.org
END:VEVENT
BEGIN:VEVENT
DTSTART;TZID=America/Los_Angeles:20240820T110000
DTEND;TZID=America/Los_Angeles:20240820T140000
DTSTAMP:20260425T173634
CREATED:20240813T181544Z
LAST-MODIFIED:20240813T182038Z
UID:10000450-1724151600-1724162400@portjobs.org
SUMMARY:Swissport Fueling Hiring Event
DESCRIPTION:Location:  \n\nSwissport Offices – 18000 International Blvd\, SeaTac\, WA 98188\nFloor LP; Earhart Conference Room.  Look for signage.\nThis is a building across from the airport\, where 13 Coins restaurant is located.\n\nFueling Agents: \n\n$22/hr\nFull-time position\nValid driver’s license required\nGeneral math aptitude required
URL:https://portjobs.org/event/swissport-fueling-hiring-event/2024-08-20/
CATEGORIES:Hiring Events & Job Fairs
ATTACH;FMTTYPE=image/jpeg:https://portjobs.org/wp-content/uploads/2024/08/SwissportUSAFueler_Aug16-20.jpg
ORGANIZER;CN="Airport Jobs":MAILTO:airportjobs@portjobs.org
END:VEVENT
BEGIN:VEVENT
DTSTART;TZID=America/Los_Angeles:20240824T120000
DTEND;TZID=America/Los_Angeles:20240824T160000
DTSTAMP:20260425T173634
CREATED:20240814T213056Z
LAST-MODIFIED:20240814T213056Z
UID:10000453-1724500800-1724515200@portjobs.org
SUMMARY:Rainier Beach Back-to-School Bash
DESCRIPTION:Location:  Be’er Sheva Park\, 8650 55th Ave S\, Seattle\, WA \n\nBackpacks and school supplies\nBraiding\, beauticians and nail techs\nFood\, entertainment and kids activities\nNeighborhood resource booths
URL:https://portjobs.org/event/rainier-beach-back-to-school-bash/
CATEGORIES:Hiring Events & Job Fairs
ATTACH;FMTTYPE=image/jpeg:https://portjobs.org/wp-content/uploads/2024/08/RainierBeachBack2SchoolBash_2024.jpg
ORGANIZER;CN="Airport Jobs":MAILTO:airportjobs@portjobs.org
END:VEVENT
BEGIN:VEVENT
DTSTART;TZID=America/Los_Angeles:20240826T110000
DTEND;TZID=America/Los_Angeles:20240826T140000
DTSTAMP:20260425T173634
CREATED:20240813T181822Z
LAST-MODIFIED:20240813T181952Z
UID:10000452-1724670000-1724680800@portjobs.org
SUMMARY:Swissport USA - Ground Handling Hiring Event
DESCRIPTION:Location:  \n\nSwissport Offices – 18000 International Blvd\, SeaTac\, WA 98188\nFloor LP; Earhart Conference Room.  Look for signage.\nThis is a building across from the airport\, where 13 Coins restaurant is located.\n\nGround Handling Ramp Agents: \n\n$21/hr\nFull-time and part-time positions\nValid driver’s license required
URL:https://portjobs.org/event/swissport-usa-ground-handling-ramp-agent-hiring-event/2024-08-26/
CATEGORIES:Hiring Events & Job Fairs
ATTACH;FMTTYPE=image/jpeg:https://portjobs.org/wp-content/uploads/2024/08/SwissportUSARamp_Aug19-26.jpg
ORGANIZER;CN="Airport Jobs":MAILTO:airportjobs@portjobs.org
END:VEVENT
END:VCALENDAR