BEGIN:VCALENDAR
VERSION:2.0
PRODID:-//Port Jobs - ECPv6.15.20//NONSGML v1.0//EN
CALSCALE:GREGORIAN
METHOD:PUBLISH
X-WR-CALNAME:Port Jobs
X-ORIGINAL-URL:https://portjobs.org
X-WR-CALDESC:Events for Port Jobs
REFRESH-INTERVAL;VALUE=DURATION:PT1H
X-Robots-Tag:noindex
X-PUBLISHED-TTL:PT1H
BEGIN:VTIMEZONE
TZID:America/Los_Angeles
BEGIN:DAYLIGHT
TZOFFSETFROM:-0800
TZOFFSETTO:-0700
TZNAME:PDT
DTSTART:20230312T100000
END:DAYLIGHT
BEGIN:STANDARD
TZOFFSETFROM:-0700
TZOFFSETTO:-0800
TZNAME:PST
DTSTART:20231105T090000
END:STANDARD
BEGIN:DAYLIGHT
TZOFFSETFROM:-0800
TZOFFSETTO:-0700
TZNAME:PDT
DTSTART:20240310T100000
END:DAYLIGHT
BEGIN:STANDARD
TZOFFSETFROM:-0700
TZOFFSETTO:-0800
TZNAME:PST
DTSTART:20241103T090000
END:STANDARD
BEGIN:DAYLIGHT
TZOFFSETFROM:-0800
TZOFFSETTO:-0700
TZNAME:PDT
DTSTART:20250309T100000
END:DAYLIGHT
BEGIN:STANDARD
TZOFFSETFROM:-0700
TZOFFSETTO:-0800
TZNAME:PST
DTSTART:20251102T090000
END:STANDARD
END:VTIMEZONE
BEGIN:VEVENT
DTSTART;TZID=America/Los_Angeles:20240605T150000
DTEND;TZID=America/Los_Angeles:20240605T170000
DTSTAMP:20260425T143925
CREATED:20240410T204241Z
LAST-MODIFIED:20240410T204325Z
UID:10000345-1717599600-1717606800@portjobs.org
SUMMARY:Peace n the Hood Job Fair - Ages 16-24
DESCRIPTION:In-person\, indoors at Steve Cox Memorial Park.  Ages 16-24. \n\nResume and application assistance at the log cabin.\nWhite Center resources to connect with\nInterview with employers\nLearn application process and skills needed for jobs\n\nLocation:  Steve Cox Memorial Park\, 1321 SW 102nd St\, Seattle\, WA 98146
URL:https://portjobs.org/event/peace-n-the-hood-job-fair-ages-16-24/
CATEGORIES:Hiring Events & Job Fairs
ATTACH;FMTTYPE=image/jpeg:https://portjobs.org/wp-content/uploads/2024/04/Peace-N-the-Hood-Job-Fair-2024.jpg
ORGANIZER;CN="Airport Jobs":MAILTO:airportjobs@portjobs.org
END:VEVENT
BEGIN:VEVENT
DTSTART;TZID=America/Los_Angeles:20240611T160000
DTEND;TZID=America/Los_Angeles:20240611T190000
DTSTAMP:20260425T143925
CREATED:20240605T194609Z
LAST-MODIFIED:20240605T194840Z
UID:10000406-1718121600-1718132400@portjobs.org
SUMMARY:Metro Green Jobs Fair
DESCRIPTION:Help the planet and grow your career! \nLocation:  Tukwila Community Center\, 12424 42nd Ave S\, Tukwila\, WA 98168 \nExplore a wide variety of Metro green jobs\, including entry-level\, apprenticeships and trades positions within bus operations\, light rail\, Street Car\, and Water Taxi. Opportunities will be highlighted for everyone\, with a special focus on career paths for youth\, women\, BIPOC individuals and job seekers who want to change direction. Participate in mock interviews and application clinics and explore new possibilities with Metro staff. All are welcome! \nRegister Here
URL:https://portjobs.org/event/metro-green-jobs-fair/
CATEGORIES:Hiring Events & Job Fairs
ATTACH;FMTTYPE=image/png:https://portjobs.org/wp-content/uploads/2024/06/Screenshot-2024-06-05-124339.png
END:VEVENT
BEGIN:VEVENT
DTSTART;TZID=America/Los_Angeles:20240622T080000
DTEND;TZID=America/Los_Angeles:20240622T120000
DTSTAMP:20260425T143925
CREATED:20240617T165345Z
LAST-MODIFIED:20240617T181542Z
UID:10000409-1719043200-1719057600@portjobs.org
SUMMARY:Huntleigh Hiring Event in Kent
DESCRIPTION:SEA Airport – Aircraft Access Guards – $21/hour \n\nPrevent unauthorized access and entry to the aircraft and act as a deterrent against tampering\, vandalism\, sabotage\, and terrorism.\n\nEvent Location: 18000 72nd Ave. South #110\, Kent\, WA 98032
URL:https://portjobs.org/event/huntleigh-hiring-event-for-sea-airport/
CATEGORIES:Hiring Events & Job Fairs
ATTACH;FMTTYPE=image/jpeg:https://portjobs.org/wp-content/uploads/2024/06/Huntleigh_Jun22_TheirOffice-1.jpg
ORGANIZER;CN="Airport Jobs":MAILTO:airportjobs@portjobs.org
END:VEVENT
BEGIN:VEVENT
DTSTART;TZID=America/Los_Angeles:20240622T120000
DTEND;TZID=America/Los_Angeles:20240622T170000
DTSTAMP:20260425T143925
CREATED:20240617T183949Z
LAST-MODIFIED:20240617T184512Z
UID:10000410-1719057600-1719075600@portjobs.org
SUMMARY:World Refugee Day - Global Village Event
DESCRIPTION:World Refugee Day-Global Village Festival \nEvery year on World Refugee Day we’re focused on telling the stories of refugees—of people beyond numbers—and showing the power of welcoming refugees. World Refugee Day 2024 is an effort to invite the world to see\, celebrate\, and honor refugees and immigrants worldwide. \nLocation:  Foster High School\, 4242 South 144th St.\, Tukwila\, WA 98168 \nBelow are some activities you can expect at the event: \n\nCultural tables/booths\nNon-Profit Resources\, Small Business Immigrant Owners\nkids zone (e.g.\, arts and crafts activities\, games\, outdoor activities\, recreational equipment)\nlive performances from artists and groups\nfree food\nAnd much more…
URL:https://portjobs.org/event/world-refugee-day-global-village-event/
CATEGORIES:Hiring Events & Job Fairs
ATTACH;FMTTYPE=image/png:https://portjobs.org/wp-content/uploads/2024/06/Screenshot-2024-06-17-113712.png
ORGANIZER;CN="Airport Jobs":MAILTO:airportjobs@portjobs.org
END:VEVENT
BEGIN:VEVENT
DTSTART;TZID=America/Los_Angeles:20240629T103000
DTEND;TZID=America/Los_Angeles:20240629T140000
DTSTAMP:20260425T143925
CREATED:20240626T221222Z
LAST-MODIFIED:20240626T221222Z
UID:10000413-1719657000-1719669600@portjobs.org
SUMMARY:Villa Comunitaria Family Day @ Concord Elementary
DESCRIPTION:Join us at the Villa Comunitaria presents Family Day Resource Fair!  Interpreters will be available. \n\nActivities\nResources\nRaffles\nFood\nVaccines\nand more…\n\nLocation:  Concord Elementary School\, 723 South Concord St\, Seattle\, WA  98108
URL:https://portjobs.org/event/villa-comunitaria-family-day-concord-elementary/
CATEGORIES:Hiring Events & Job Fairs
ATTACH;FMTTYPE=image/png:https://portjobs.org/wp-content/uploads/2024/06/ENG-Dia-de-la-Familia-2024.png
ORGANIZER;CN="Airport Jobs":MAILTO:airportjobs@portjobs.org
END:VEVENT
END:VCALENDAR