BEGIN:VCALENDAR
VERSION:2.0
PRODID:-//Port Jobs - ECPv6.15.20//NONSGML v1.0//EN
CALSCALE:GREGORIAN
METHOD:PUBLISH
X-WR-CALNAME:Port Jobs
X-ORIGINAL-URL:https://portjobs.org
X-WR-CALDESC:Events for Port Jobs
REFRESH-INTERVAL;VALUE=DURATION:PT1H
X-Robots-Tag:noindex
X-PUBLISHED-TTL:PT1H
BEGIN:VTIMEZONE
TZID:America/Los_Angeles
BEGIN:DAYLIGHT
TZOFFSETFROM:-0800
TZOFFSETTO:-0700
TZNAME:PDT
DTSTART:20230312T100000
END:DAYLIGHT
BEGIN:STANDARD
TZOFFSETFROM:-0700
TZOFFSETTO:-0800
TZNAME:PST
DTSTART:20231105T090000
END:STANDARD
BEGIN:DAYLIGHT
TZOFFSETFROM:-0800
TZOFFSETTO:-0700
TZNAME:PDT
DTSTART:20240310T100000
END:DAYLIGHT
BEGIN:STANDARD
TZOFFSETFROM:-0700
TZOFFSETTO:-0800
TZNAME:PST
DTSTART:20241103T090000
END:STANDARD
BEGIN:DAYLIGHT
TZOFFSETFROM:-0800
TZOFFSETTO:-0700
TZNAME:PDT
DTSTART:20250309T100000
END:DAYLIGHT
BEGIN:STANDARD
TZOFFSETFROM:-0700
TZOFFSETTO:-0800
TZNAME:PST
DTSTART:20251102T090000
END:STANDARD
END:VTIMEZONE
BEGIN:VEVENT
DTSTART;TZID=America/Los_Angeles:20240507T130000
DTEND;TZID=America/Los_Angeles:20240507T150000
DTSTAMP:20260425T125724
CREATED:20240424T215907Z
LAST-MODIFIED:20240424T220228Z
UID:10000398-1715086800-1715094000@portjobs.org
SUMMARY:Concessions International Open Interview Event
DESCRIPTION:Salty’s and Brew Top Social are open at SEA and P.F. Chang’s is coming soon! \nFull-time Positions \n\nOvernight Utility (9:00pm – 5:00am) – $24/hr\nCooks – $22/hr – $23/hr + tips\nDishwasher Utility (Morning & Evening Shifts) – $21/hr – $22/hr + tips\nHost/Hostess (Morning & Evening Shifts – Salty’s) – $19.71/hr + tips\nOvernight Prep Cooks (9:00pm – 5:00am) – $22/hr + tips\n\n 
URL:https://portjobs.org/event/concessions-international-open-interview-event-5/
LOCATION:Airport University Classroom\, Airport University Classroom\, Seattle\, WA\, 98158\, United States
CATEGORIES:Hiring Events & Job Fairs
ATTACH;FMTTYPE=image/jpeg:https://portjobs.org/wp-content/uploads/2024/04/ConcessionsIntl_May7.jpg
ORGANIZER;CN="Airport Jobs":MAILTO:airportjobs@portjobs.org
END:VEVENT
BEGIN:VEVENT
DTSTART;TZID=America/Los_Angeles:20240510T100000
DTEND;TZID=America/Los_Angeles:20240510T120000
DTSTAMP:20260425T125724
CREATED:20240425T215444Z
LAST-MODIFIED:20240425T223011Z
UID:10000400-1715335200-1715342400@portjobs.org
SUMMARY:American Airlines hiring Full-time Customer Service Agents
DESCRIPTION:American Airlines is hiring Full-time Customer Service Agents on Friday\, May 10\, 2024\, from 10:00am – 12:00pm\nInvitation to Interview Required. No Walk-ins. \nSteps needed:\n1. Apply online here\n2. Complete their Customer Service Assessment sent by American Airlines after you’ve applied online\n3. You will then be notified if you are accepted and schedule for an interview \nPosition:  Part-time Customer Service Agents – $18.51/hr\n* Works with customers promoting and selling air travel; assist with passenger check-in and cargo acceptance; interpret government rules and requirements for travel
URL:https://portjobs.org/event/american-airlines-hiring-full-time-customer-service-agents/
LOCATION:Airport University Classroom\, Airport University Classroom\, Seattle\, WA\, 98158\, United States
CATEGORIES:Hiring Events & Job Fairs
ATTACH;FMTTYPE=image/jpeg:https://portjobs.org/wp-content/uploads/2024/04/AmericanAir_May10_InviteOnly_FTCSR.jpg
ORGANIZER;CN="Airport Jobs":MAILTO:airportjobs@portjobs.org
END:VEVENT
BEGIN:VEVENT
DTSTART;TZID=America/Los_Angeles:20240514T130000
DTEND;TZID=America/Los_Angeles:20240514T150000
DTSTAMP:20260425T125724
CREATED:20240424T220031Z
LAST-MODIFIED:20240424T220123Z
UID:10000399-1715691600-1715698800@portjobs.org
SUMMARY:Concessions International Open Interview Event
DESCRIPTION:Salty’s and Brew Top Social are open at SEA and PF Changs is coming soon! \nFull-time Positions \n\nOvernight Utility (9:00pm – 5:00am) – $24/hr\nCooks – $22/hr – $23/hr + tips\nDishwasher Utility (Morning & Evening Shifts) – $21/hr – $22/hr + tips\nHost/Hostess (Morning & Evening Shifts – Salty’s) – $19.71/hr + tips\nOvernight Prep Cooks (9:00pm – 5:00am) – $22/hr + tips\n\n 
URL:https://portjobs.org/event/concessions-international-open-interview-event-6/
LOCATION:Airport University Classroom\, Airport University Classroom\, Seattle\, WA\, 98158\, United States
CATEGORIES:Hiring Events & Job Fairs
ATTACH;FMTTYPE=image/jpeg:https://portjobs.org/wp-content/uploads/2024/04/ConcessionsIntl_May14.jpg
ORGANIZER;CN="Airport Jobs":MAILTO:airportjobs@portjobs.org
END:VEVENT
BEGIN:VEVENT
DTSTART;TZID=America/Los_Angeles:20240516T130000
DTEND;TZID=America/Los_Angeles:20240516T150000
DTSTAMP:20260425T125724
CREATED:20240425T215727Z
LAST-MODIFIED:20240425T223051Z
UID:10000401-1715864400-1715871600@portjobs.org
SUMMARY:American Airlines hiring Part-time Customer Service Agents
DESCRIPTION:American Airlines is hiring Part-time Customer Service Agents on Thursday\, May 16\, 2024\, from 1:00pm – 3:00pm\nInvitation to Interview Required. No Walk-ins. \nSteps needed:\n1. Apply online here\n2. Complete their Customer Service Assessment sent by American Airlines after you’ve applied online\n3. You will then be notified if you are accepted and schedule for an interview \nPosition:  Part-time Customer Service Agents – $18.51/hr\n* Works with customers promoting and selling air travel; assist with passenger check-in and cargo acceptance; interpret government rules and requirements for travel
URL:https://portjobs.org/event/american-airlines-hiring-part-time-customer-service-agents/
LOCATION:Airport University Classroom\, Airport University Classroom\, Seattle\, WA\, 98158\, United States
CATEGORIES:Hiring Events & Job Fairs
ATTACH;FMTTYPE=image/jpeg:https://portjobs.org/wp-content/uploads/2024/04/AmericanAir_May16_InviteOnly_PTCSR.jpg
ORGANIZER;CN="Airport Jobs":MAILTO:airportjobs@portjobs.org
END:VEVENT
BEGIN:VEVENT
DTSTART;TZID=America/Los_Angeles:20240517T100000
DTEND;TZID=America/Los_Angeles:20240517T120000
DTSTAMP:20260425T125724
CREATED:20240430T214308Z
LAST-MODIFIED:20240430T214346Z
UID:10000402-1715940000-1715947200@portjobs.org
SUMMARY:NW Concessions Hiring Event
DESCRIPTION:Northwest Concessions is hiring at SEA Airport on Friday\, May 17\, 2024\, from 10:00am – 12:00pm \nOpen Positions – Food Service:\n• Barista – $19.71/hr plus tips – Full-time and part-time – all shifts\n• Cook – $19.71/hr plus tips – Full-time and part-time – all shifts\n• Cashier – $19.71/hr plus tips – Full-time and part-time – all shifts\n• Food Prep – $19.71/hr plus tips – Full-time and part-time – all shifts \nOpen Positions – Janitorial:\n• Utility/Janitorial – $19.71/hr + tips – Full-time and part-time – day and evening shifts\n• Utility/Janitorial Graveyard – $22/hr + tips – Full-time and part-time graveyard shift
URL:https://portjobs.org/event/nw-concessions-hiring-event-2/
LOCATION:Airport University Classroom\, Airport University Classroom\, Seattle\, WA\, 98158\, United States
CATEGORIES:Hiring Events & Job Fairs
ATTACH;FMTTYPE=image/jpeg:https://portjobs.org/wp-content/uploads/2024/04/NWConcessions_May17_AU.jpg
ORGANIZER;CN="Airport Jobs":MAILTO:airportjobs@portjobs.org
END:VEVENT
BEGIN:VEVENT
DTSTART;TZID=America/Los_Angeles:20240529T120000
DTEND;TZID=America/Los_Angeles:20240529T153000
DTSTAMP:20260425T125724
CREATED:20240514T163417Z
LAST-MODIFIED:20240514T163417Z
UID:10000404-1716984000-1716996600@portjobs.org
SUMMARY:YWCA Greenbridge Learning Center Job & Resource Fair
DESCRIPTION:In-person hiring event with many employers\, including: \n\nStarbucks\nUnifi\nOpti\nPort Jobs\nHilton\nSeattle Jobs Initiative\nHyatt Regency\nService Linen Supply and many more\n\nLocation:  YWCA Greenbridge Learning Center\, 9720 8th Ave SW\, Seattle\, WA 98106 \nFree Parking
URL:https://portjobs.org/event/ywca-greenbridge-learning-center-job-resource-fair/
CATEGORIES:Hiring Events & Job Fairs
ATTACH;FMTTYPE=image/jpeg:https://portjobs.org/wp-content/uploads/2024/05/YWCA-Greenbridge-May29-scaled.jpg
ORGANIZER;CN="Airport Jobs":MAILTO:airportjobs@portjobs.org
END:VEVENT
BEGIN:VEVENT
DTSTART;TZID=America/Los_Angeles:20240531T130000
DTEND;TZID=America/Los_Angeles:20240531T150000
DTSTAMP:20260425T125724
CREATED:20240522T174755Z
LAST-MODIFIED:20240522T174755Z
UID:10000405-1717160400-1717167600@portjobs.org
SUMMARY:Whayne Enterprises is hiring Custodians
DESCRIPTION:Full-time Swing Shift 2:00pm – 10:30pm\n\n$20.21/hr\n\n\nFull-time Graveyard Shift 10:00pm – 6:30am\n\n$20.46/hr\n\n\n\nBenefits package for full-time.
URL:https://portjobs.org/event/whayne-enterprises-is-hiring-custodians/
LOCATION:Airport University Classroom\, Airport University Classroom\, Seattle\, WA\, 98158\, United States
CATEGORIES:Hiring Events & Job Fairs
ATTACH;FMTTYPE=image/jpeg:https://portjobs.org/wp-content/uploads/2024/05/Whayne_May31_AU.jpg
ORGANIZER;CN="Airport Jobs":MAILTO:airportjobs@portjobs.org
END:VEVENT
END:VCALENDAR