BEGIN:VCALENDAR
VERSION:2.0
PRODID:-//Port Jobs - ECPv6.15.20//NONSGML v1.0//EN
CALSCALE:GREGORIAN
METHOD:PUBLISH
X-WR-CALNAME:Port Jobs
X-ORIGINAL-URL:https://portjobs.org
X-WR-CALDESC:Events for Port Jobs
REFRESH-INTERVAL;VALUE=DURATION:PT1H
X-Robots-Tag:noindex
X-PUBLISHED-TTL:PT1H
BEGIN:VTIMEZONE
TZID:America/Los_Angeles
BEGIN:DAYLIGHT
TZOFFSETFROM:-0800
TZOFFSETTO:-0700
TZNAME:PDT
DTSTART:20230312T100000
END:DAYLIGHT
BEGIN:STANDARD
TZOFFSETFROM:-0700
TZOFFSETTO:-0800
TZNAME:PST
DTSTART:20231105T090000
END:STANDARD
BEGIN:DAYLIGHT
TZOFFSETFROM:-0800
TZOFFSETTO:-0700
TZNAME:PDT
DTSTART:20240310T100000
END:DAYLIGHT
BEGIN:STANDARD
TZOFFSETFROM:-0700
TZOFFSETTO:-0800
TZNAME:PST
DTSTART:20241103T090000
END:STANDARD
BEGIN:DAYLIGHT
TZOFFSETFROM:-0800
TZOFFSETTO:-0700
TZNAME:PDT
DTSTART:20250309T100000
END:DAYLIGHT
BEGIN:STANDARD
TZOFFSETFROM:-0700
TZOFFSETTO:-0800
TZNAME:PST
DTSTART:20251102T090000
END:STANDARD
END:VTIMEZONE
BEGIN:VEVENT
DTSTART;TZID=America/Los_Angeles:20240710T100000
DTEND;TZID=America/Los_Angeles:20240710T120000
DTSTAMP:20260421T131600
CREATED:20240612T171435Z
LAST-MODIFIED:20240612T171435Z
UID:6891-1720605600-1720612800@portjobs.org
SUMMARY:Hudson Hiring Event - Open Interviews
DESCRIPTION:Full-time Retail Sales Associates – $19.81/hr\nFull-time Retail Stock Associates – $20.81/hr\n\nMust have a flexible schedule \nApply online prior to attending the event to save time:  https://www.hudsongroup.com/careers \n 
URL:https://portjobs.org/event/hudson-hiring-event-open-interviews/
LOCATION:Airport University Classroom\, Airport University Classroom\, Seattle\, WA\, 98158\, United States
CATEGORIES:Hiring Events & Job Fairs
ATTACH;FMTTYPE=image/jpeg:https://portjobs.org/wp-content/uploads/2024/06/Hudson_July10_AU.jpg
ORGANIZER;CN="Airport Jobs":MAILTO:airportjobs@portjobs.org
END:VEVENT
END:VCALENDAR